BEGIN:VCALENDAR
VERSION:2.0
PRODID:-//Goulburn Murray Landcare Network - ECPv6.15.15//NONSGML v1.0//EN
CALSCALE:GREGORIAN
METHOD:PUBLISH
X-ORIGINAL-URL:https://gmln.com.au
X-WR-CALDESC:Events for Goulburn Murray Landcare Network
REFRESH-INTERVAL;VALUE=DURATION:PT1H
X-Robots-Tag:noindex
X-PUBLISHED-TTL:PT1H
BEGIN:VTIMEZONE
TZID:Australia/Melbourne
BEGIN:STANDARD
TZOFFSETFROM:+1100
TZOFFSETTO:+1000
TZNAME:AEST
DTSTART:20210403T160000
END:STANDARD
BEGIN:DAYLIGHT
TZOFFSETFROM:+1000
TZOFFSETTO:+1100
TZNAME:AEDT
DTSTART:20211002T160000
END:DAYLIGHT
BEGIN:STANDARD
TZOFFSETFROM:+1100
TZOFFSETTO:+1000
TZNAME:AEST
DTSTART:20220402T160000
END:STANDARD
BEGIN:DAYLIGHT
TZOFFSETFROM:+1000
TZOFFSETTO:+1100
TZNAME:AEDT
DTSTART:20221001T160000
END:DAYLIGHT
BEGIN:STANDARD
TZOFFSETFROM:+1100
TZOFFSETTO:+1000
TZNAME:AEST
DTSTART:20230401T160000
END:STANDARD
BEGIN:DAYLIGHT
TZOFFSETFROM:+1000
TZOFFSETTO:+1100
TZNAME:AEDT
DTSTART:20230930T160000
END:DAYLIGHT
BEGIN:STANDARD
TZOFFSETFROM:+1100
TZOFFSETTO:+1000
TZNAME:AEST
DTSTART:20240406T160000
END:STANDARD
BEGIN:DAYLIGHT
TZOFFSETFROM:+1000
TZOFFSETTO:+1100
TZNAME:AEDT
DTSTART:20241005T160000
END:DAYLIGHT
END:VTIMEZONE
BEGIN:VEVENT
DTSTART;TZID=Australia/Melbourne:20230223T093000
DTEND;TZID=Australia/Melbourne:20230224T153000
DTSTAMP:20260421T203419
CREATED:20230124T232853Z
LAST-MODIFIED:20230125T030308Z
UID:4640-1677144600-1677252600@gmln.com.au
SUMMARY:Holistic Management Refresher Course
DESCRIPTION:DATE: Thursday 23 February 2023 9:30 AM – Friday 24 February 2023 3:30 PM\nLOCATION: Katandra (location tbc)\n \n\nThis two day workshop is specifically designed for previous attendees of the full 8 day Holistic Management training\, aimed at supporting and building on existing skills and knowledge.\n \nDay 1\n– Holistic goal setting BYO Holistic goal to discuss\n– Ecosystem processes & biological monitoring\n– Paddock Walk biological monitoring practical\n \nDay 2\n– Grazing Planning BYO grazing plan\n– Land Planning\n– Financial planning overview\n– Final questions & wrap up\n \nHM educator and grassland ecologist Judi Earl will be presenting on the day.\n\n \n\nMorning tea and lunch provided. Registrations essential. Click here to register.  For more information contact Dan on 0411 214 751 or email: dan@gmln.com.au\n \nThis project is supported by the Goulburn Broken CMA through funding from the Australian Government’s National Landcare Program.\n\n\n  \n\n 
URL:https://gmln.com.au/event/holistic-management-refresher-course/
CATEGORIES:From the Ground Up
ATTACH;FMTTYPE=image/jpeg:https://gmln.com.au/wp-content/uploads/2023/01/HM-refresher-course.jpeg
ORGANIZER;CN="Goulburn Murray Landcare":MAILTO:info@gmln.com.au
END:VEVENT
BEGIN:VEVENT
DTSTART;TZID=Australia/Melbourne:20230221T093000
DTEND;TZID=Australia/Melbourne:20230221T150000
DTSTAMP:20260421T203419
CREATED:20230124T231527Z
LAST-MODIFIED:20230125T025802Z
UID:4636-1676971800-1676991600@gmln.com.au
SUMMARY:Horse Health and Pastures Workshop
DESCRIPTION:DATE: Tuesday 21 February 2023 9:30 AM – 3:00 PM\nLOCATION: Nagambie (location tbc)\n \n\nDavid Nash from Kentucky Equire Research will share his knowledge on:\n– Horse nutrition and health\n– How to balance feed requirements between purchased supplements and on farm produced hay and pasture\n \nJudi Earl will delve into pasture\, grazing\, soil and animal health. Multispecies pasture discussion- Assist with open discussions on certain plant toxicity and contribute to the design of an Equine multispecies seed mix.\n \nMorning tea and lunch provided. \nRegistrations are essential. Please click here to register. For more information contact Dan Walker on 0411 214 751 or email: dan@gmln.com.au \nThis project is supported by the Goulburn Broken CMA through funding from the Australian Government’s National Landcare Program. \n\n \n   
URL:https://gmln.com.au/event/horse-health-and-pastures-workshop/
CATEGORIES:From the Ground Up
ATTACH;FMTTYPE=image/jpeg:https://gmln.com.au/wp-content/uploads/2023/01/Horse-Health-workshop.jpg
ORGANIZER;CN="Goulburn Murray Landcare":MAILTO:info@gmln.com.au
END:VEVENT
BEGIN:VEVENT
DTSTART;TZID=Australia/Melbourne:20230220T093000
DTEND;TZID=Australia/Melbourne:20230220T153000
DTSTAMP:20260421T203419
CREATED:20230124T231016Z
LAST-MODIFIED:20230125T025614Z
UID:4630-1676885400-1676907000@gmln.com.au
SUMMARY:Introduction to Holistic Planned Grazing
DESCRIPTION:DATE: Monday 20 February 2023 9:30 AM – 3:30 PM \nLOCATION: Merrigum Hall\n \nHolistic management educator and grassland ecologist Judi Earl will provide participants with an introduction to:\n– Holistic Management framework and decision making processes\n– Ecosystem processes\n– Paddock walk and talk discussing soil health\, management issues and recapHolistic educator and grassland ecologist Judi Earl will be presenting on the day. Read more about Judi here www.glenorton.com.au/about-judiMorning tea and Lunch Provided. \nRegistrations essential. Click here to register. For more information contact Dan Walker on 0411 214 751 or email: dan@gmln.com.au \n\nThis project is supported by the Goulburn Broken CMA through funding from the Australian Government’s National Landcare Program.
URL:https://gmln.com.au/event/introduction-to-holistic-planned-grazing/
LOCATION:Merrigum Hall\, 98 Morrissey Street\, Merrigum\, Vic\, 3618\, Australia
CATEGORIES:From the Ground Up
ATTACH;FMTTYPE=image/jpeg:https://gmln.com.au/wp-content/uploads/2023/01/Intro-to-HMolistic-planned-grazing.jpeg
ORGANIZER;CN="Goulburn Murray Landcare":MAILTO:info@gmln.com.au
END:VEVENT
BEGIN:VEVENT
DTSTART;TZID=Australia/Melbourne:20220521T103000
DTEND;TZID=Australia/Melbourne:20220521T130000
DTSTAMP:20260421T203419
CREATED:20220407T233135Z
LAST-MODIFIED:20220407T233958Z
UID:4165-1653129000-1653138000@gmln.com.au
SUMMARY:On Farm Soil Monitoring Session
DESCRIPTION:Let’s get on farm and put our hands in the soil and learn how to undertake soil health monitoring with farmer and practitioner Jo Doolan. \nTopics covered during the session\n• Soil sample methodology\n• pH\n• Infiltration and moisture\n• Assessing ground cover\n• Photo point monitoring \nDate: Saturday 21st of May 2022\nWhere: Kyabram (address tba upon registration)\nTime: 10:30am – 1pm\nCost: $20\nLunch provided bring a water bottle and enclosed shoes. \nRegistration is essential to attend as numbers are limited due to COVIDSafe event requirements.\nPlease use this link to register: https://www.trybooking.com/BYQUI \nFor further information please contact Dan via email: dan@gmln.com.au or phone 0411 214 751. \n 
URL:https://gmln.com.au/event/on-farm-soil-monitoring-session/
CATEGORIES:From the Ground Up
ORGANIZER;CN="Goulburn Murray Landcare":MAILTO:info@gmln.com.au
END:VEVENT
END:VCALENDAR